BEGIN:VCALENDAR
VERSION:2.0
PRODID:-//Southwell - ECPv6.15.18//NONSGML v1.0//EN
CALSCALE:GREGORIAN
METHOD:PUBLISH
X-ORIGINAL-URL:https://mysouthwell.com
X-WR-CALDESC:Events for Southwell
REFRESH-INTERVAL;VALUE=DURATION:PT1H
X-Robots-Tag:noindex
X-PUBLISHED-TTL:PT1H
BEGIN:VTIMEZONE
TZID:America/New_York
BEGIN:DAYLIGHT
TZOFFSETFROM:-0500
TZOFFSETTO:-0400
TZNAME:EDT
DTSTART:20290311T070000
END:DAYLIGHT
BEGIN:STANDARD
TZOFFSETFROM:-0400
TZOFFSETTO:-0500
TZNAME:EST
DTSTART:20291104T060000
END:STANDARD
BEGIN:DAYLIGHT
TZOFFSETFROM:-0500
TZOFFSETTO:-0400
TZNAME:EDT
DTSTART:20300310T070000
END:DAYLIGHT
BEGIN:STANDARD
TZOFFSETFROM:-0400
TZOFFSETTO:-0500
TZNAME:EST
DTSTART:20301103T060000
END:STANDARD
BEGIN:DAYLIGHT
TZOFFSETFROM:-0500
TZOFFSETTO:-0400
TZNAME:EDT
DTSTART:20310309T070000
END:DAYLIGHT
BEGIN:STANDARD
TZOFFSETFROM:-0400
TZOFFSETTO:-0500
TZNAME:EST
DTSTART:20311102T060000
END:STANDARD
BEGIN:DAYLIGHT
TZOFFSETFROM:-0500
TZOFFSETTO:-0400
TZNAME:EDT
DTSTART:20320314T070000
END:DAYLIGHT
BEGIN:STANDARD
TZOFFSETFROM:-0400
TZOFFSETTO:-0500
TZNAME:EST
DTSTART:20321107T060000
END:STANDARD
END:VTIMEZONE
BEGIN:VEVENT
DTSTART;TZID=America/New_York:20300521T173000
DTEND;TZID=America/New_York:20300521T183000
DTSTAMP:20260419T092016
CREATED:20251217T200759Z
LAST-MODIFIED:20260121T151853Z
UID:10000232-1905615000-1905618600@mysouthwell.com
SUMMARY:Weight Loss Surgery Support Group
DESCRIPTION:Join us to receive support\, encouragement\, and guidance on your weight loss journey!
URL:https://mysouthwell.com/event/weight-loss-surgery-support-group/2030-05-21/
LOCATION:South Georgia Surgical\, 1007 Greenfield Drive\, Tifton\, GA\, 31794\, United States
ATTACH;FMTTYPE=image/jpeg:https://mysouthwell.com/wp-content/uploads/2026/01/event-hero.jpg
END:VEVENT
BEGIN:VEVENT
DTSTART;TZID=America/New_York:20300603T170000
DTEND;TZID=America/New_York:20300603T180000
DTSTAMP:20260419T092016
CREATED:20260113T150603Z
LAST-MODIFIED:20260121T151508Z
UID:10000463-1906736400-1906740000@mysouthwell.com
SUMMARY:Reflections Grief Support Group
DESCRIPTION:To Attend: RSVP to the Hospice of Tift Area Office at 229-353-6330 \nQuestions: Stephen Norris\, Bereavement Coordinator\, 229-353-6330
URL:https://mysouthwell.com/event/reflections-grief-support-group/2030-06-03/
LOCATION:Hospice of Tift Area Office\, 618 North Central Avenue\, Tifton\, 31794\, United States
ATTACH;FMTTYPE=image/jpeg:https://mysouthwell.com/wp-content/uploads/2026/01/event-hero.jpg
END:VEVENT
BEGIN:VEVENT
DTSTART;TZID=America/New_York:20300618T173000
DTEND;TZID=America/New_York:20300618T183000
DTSTAMP:20260419T092016
CREATED:20251217T200759Z
LAST-MODIFIED:20260121T151853Z
UID:10000235-1908034200-1908037800@mysouthwell.com
SUMMARY:Weight Loss Surgery Support Group
DESCRIPTION:Join us to receive support\, encouragement\, and guidance on your weight loss journey!
URL:https://mysouthwell.com/event/weight-loss-surgery-support-group/2030-06-18/
LOCATION:South Georgia Surgical\, 1007 Greenfield Drive\, Tifton\, GA\, 31794\, United States
ATTACH;FMTTYPE=image/jpeg:https://mysouthwell.com/wp-content/uploads/2026/01/event-hero.jpg
END:VEVENT
BEGIN:VEVENT
DTSTART;TZID=America/New_York:20300701T170000
DTEND;TZID=America/New_York:20300701T180000
DTSTAMP:20260419T092016
CREATED:20260113T150603Z
LAST-MODIFIED:20260121T151508Z
UID:10000466-1909155600-1909159200@mysouthwell.com
SUMMARY:Reflections Grief Support Group
DESCRIPTION:To Attend: RSVP to the Hospice of Tift Area Office at 229-353-6330 \nQuestions: Stephen Norris\, Bereavement Coordinator\, 229-353-6330
URL:https://mysouthwell.com/event/reflections-grief-support-group/2030-07-01/
LOCATION:Hospice of Tift Area Office\, 618 North Central Avenue\, Tifton\, 31794\, United States
ATTACH;FMTTYPE=image/jpeg:https://mysouthwell.com/wp-content/uploads/2026/01/event-hero.jpg
END:VEVENT
BEGIN:VEVENT
DTSTART;TZID=America/New_York:20300716T173000
DTEND;TZID=America/New_York:20300716T183000
DTSTAMP:20260419T092016
CREATED:20251217T200759Z
LAST-MODIFIED:20260121T151853Z
UID:10000238-1910453400-1910457000@mysouthwell.com
SUMMARY:Weight Loss Surgery Support Group
DESCRIPTION:Join us to receive support\, encouragement\, and guidance on your weight loss journey!
URL:https://mysouthwell.com/event/weight-loss-surgery-support-group/2030-07-16/
LOCATION:South Georgia Surgical\, 1007 Greenfield Drive\, Tifton\, GA\, 31794\, United States
ATTACH;FMTTYPE=image/jpeg:https://mysouthwell.com/wp-content/uploads/2026/01/event-hero.jpg
END:VEVENT
BEGIN:VEVENT
DTSTART;TZID=America/New_York:20300805T170000
DTEND;TZID=America/New_York:20300805T180000
DTSTAMP:20260419T092016
CREATED:20260113T150603Z
LAST-MODIFIED:20260121T151508Z
UID:10000469-1912179600-1912183200@mysouthwell.com
SUMMARY:Reflections Grief Support Group
DESCRIPTION:To Attend: RSVP to the Hospice of Tift Area Office at 229-353-6330 \nQuestions: Stephen Norris\, Bereavement Coordinator\, 229-353-6330
URL:https://mysouthwell.com/event/reflections-grief-support-group/2030-08-05/
LOCATION:Hospice of Tift Area Office\, 618 North Central Avenue\, Tifton\, 31794\, United States
ATTACH;FMTTYPE=image/jpeg:https://mysouthwell.com/wp-content/uploads/2026/01/event-hero.jpg
END:VEVENT
BEGIN:VEVENT
DTSTART;TZID=America/New_York:20300820T173000
DTEND;TZID=America/New_York:20300820T183000
DTSTAMP:20260419T092016
CREATED:20251217T200759Z
LAST-MODIFIED:20260121T151853Z
UID:10000241-1913477400-1913481000@mysouthwell.com
SUMMARY:Weight Loss Surgery Support Group
DESCRIPTION:Join us to receive support\, encouragement\, and guidance on your weight loss journey!
URL:https://mysouthwell.com/event/weight-loss-surgery-support-group/2030-08-20/
LOCATION:South Georgia Surgical\, 1007 Greenfield Drive\, Tifton\, GA\, 31794\, United States
ATTACH;FMTTYPE=image/jpeg:https://mysouthwell.com/wp-content/uploads/2026/01/event-hero.jpg
END:VEVENT
BEGIN:VEVENT
DTSTART;TZID=America/New_York:20300902T170000
DTEND;TZID=America/New_York:20300902T180000
DTSTAMP:20260419T092016
CREATED:20260113T150603Z
LAST-MODIFIED:20260121T151508Z
UID:10000472-1914598800-1914602400@mysouthwell.com
SUMMARY:Reflections Grief Support Group
DESCRIPTION:To Attend: RSVP to the Hospice of Tift Area Office at 229-353-6330 \nQuestions: Stephen Norris\, Bereavement Coordinator\, 229-353-6330
URL:https://mysouthwell.com/event/reflections-grief-support-group/2030-09-02/
LOCATION:Hospice of Tift Area Office\, 618 North Central Avenue\, Tifton\, 31794\, United States
ATTACH;FMTTYPE=image/jpeg:https://mysouthwell.com/wp-content/uploads/2026/01/event-hero.jpg
END:VEVENT
BEGIN:VEVENT
DTSTART;TZID=America/New_York:20300917T173000
DTEND;TZID=America/New_York:20300917T183000
DTSTAMP:20260419T092016
CREATED:20251217T200759Z
LAST-MODIFIED:20260121T151853Z
UID:10000244-1915896600-1915900200@mysouthwell.com
SUMMARY:Weight Loss Surgery Support Group
DESCRIPTION:Join us to receive support\, encouragement\, and guidance on your weight loss journey!
URL:https://mysouthwell.com/event/weight-loss-surgery-support-group/2030-09-17/
LOCATION:South Georgia Surgical\, 1007 Greenfield Drive\, Tifton\, GA\, 31794\, United States
ATTACH;FMTTYPE=image/jpeg:https://mysouthwell.com/wp-content/uploads/2026/01/event-hero.jpg
END:VEVENT
BEGIN:VEVENT
DTSTART;TZID=America/New_York:20301007T170000
DTEND;TZID=America/New_York:20301007T180000
DTSTAMP:20260419T092016
CREATED:20260113T150603Z
LAST-MODIFIED:20260121T151508Z
UID:10000475-1917622800-1917626400@mysouthwell.com
SUMMARY:Reflections Grief Support Group
DESCRIPTION:To Attend: RSVP to the Hospice of Tift Area Office at 229-353-6330 \nQuestions: Stephen Norris\, Bereavement Coordinator\, 229-353-6330
URL:https://mysouthwell.com/event/reflections-grief-support-group/2030-10-07/
LOCATION:Hospice of Tift Area Office\, 618 North Central Avenue\, Tifton\, 31794\, United States
ATTACH;FMTTYPE=image/jpeg:https://mysouthwell.com/wp-content/uploads/2026/01/event-hero.jpg
END:VEVENT
BEGIN:VEVENT
DTSTART;TZID=America/New_York:20301015T173000
DTEND;TZID=America/New_York:20301015T183000
DTSTAMP:20260419T092016
CREATED:20251217T200759Z
LAST-MODIFIED:20260121T151853Z
UID:10000247-1918315800-1918319400@mysouthwell.com
SUMMARY:Weight Loss Surgery Support Group
DESCRIPTION:Join us to receive support\, encouragement\, and guidance on your weight loss journey!
URL:https://mysouthwell.com/event/weight-loss-surgery-support-group/2030-10-15/
LOCATION:South Georgia Surgical\, 1007 Greenfield Drive\, Tifton\, GA\, 31794\, United States
ATTACH;FMTTYPE=image/jpeg:https://mysouthwell.com/wp-content/uploads/2026/01/event-hero.jpg
END:VEVENT
BEGIN:VEVENT
DTSTART;TZID=America/New_York:20301104T170000
DTEND;TZID=America/New_York:20301104T180000
DTSTAMP:20260419T092016
CREATED:20260113T150603Z
LAST-MODIFIED:20260121T151508Z
UID:10000478-1920042000-1920045600@mysouthwell.com
SUMMARY:Reflections Grief Support Group
DESCRIPTION:To Attend: RSVP to the Hospice of Tift Area Office at 229-353-6330 \nQuestions: Stephen Norris\, Bereavement Coordinator\, 229-353-6330
URL:https://mysouthwell.com/event/reflections-grief-support-group/2030-11-04/
LOCATION:Hospice of Tift Area Office\, 618 North Central Avenue\, Tifton\, 31794\, United States
ATTACH;FMTTYPE=image/jpeg:https://mysouthwell.com/wp-content/uploads/2026/01/event-hero.jpg
END:VEVENT
BEGIN:VEVENT
DTSTART;TZID=America/New_York:20301119T173000
DTEND;TZID=America/New_York:20301119T183000
DTSTAMP:20260419T092016
CREATED:20251217T200759Z
LAST-MODIFIED:20260121T151853Z
UID:10000250-1921339800-1921343400@mysouthwell.com
SUMMARY:Weight Loss Surgery Support Group
DESCRIPTION:Join us to receive support\, encouragement\, and guidance on your weight loss journey!
URL:https://mysouthwell.com/event/weight-loss-surgery-support-group/2030-11-19/
LOCATION:South Georgia Surgical\, 1007 Greenfield Drive\, Tifton\, GA\, 31794\, United States
ATTACH;FMTTYPE=image/jpeg:https://mysouthwell.com/wp-content/uploads/2026/01/event-hero.jpg
END:VEVENT
BEGIN:VEVENT
DTSTART;TZID=America/New_York:20301202T170000
DTEND;TZID=America/New_York:20301202T180000
DTSTAMP:20260419T092016
CREATED:20260113T150603Z
LAST-MODIFIED:20260121T151508Z
UID:10000481-1922461200-1922464800@mysouthwell.com
SUMMARY:Reflections Grief Support Group
DESCRIPTION:To Attend: RSVP to the Hospice of Tift Area Office at 229-353-6330 \nQuestions: Stephen Norris\, Bereavement Coordinator\, 229-353-6330
URL:https://mysouthwell.com/event/reflections-grief-support-group/2030-12-02/
LOCATION:Hospice of Tift Area Office\, 618 North Central Avenue\, Tifton\, 31794\, United States
ATTACH;FMTTYPE=image/jpeg:https://mysouthwell.com/wp-content/uploads/2026/01/event-hero.jpg
END:VEVENT
BEGIN:VEVENT
DTSTART;TZID=America/New_York:20301217T173000
DTEND;TZID=America/New_York:20301217T183000
DTSTAMP:20260419T092016
CREATED:20251217T200759Z
LAST-MODIFIED:20260121T151853Z
UID:10000253-1923759000-1923762600@mysouthwell.com
SUMMARY:Weight Loss Surgery Support Group
DESCRIPTION:Join us to receive support\, encouragement\, and guidance on your weight loss journey!
URL:https://mysouthwell.com/event/weight-loss-surgery-support-group/2030-12-17/
LOCATION:South Georgia Surgical\, 1007 Greenfield Drive\, Tifton\, GA\, 31794\, United States
ATTACH;FMTTYPE=image/jpeg:https://mysouthwell.com/wp-content/uploads/2026/01/event-hero.jpg
END:VEVENT
BEGIN:VEVENT
DTSTART;TZID=America/New_York:20310106T170000
DTEND;TZID=America/New_York:20310106T180000
DTSTAMP:20260419T092016
CREATED:20260113T150603Z
LAST-MODIFIED:20260121T151508Z
UID:10000484-1925485200-1925488800@mysouthwell.com
SUMMARY:Reflections Grief Support Group
DESCRIPTION:To Attend: RSVP to the Hospice of Tift Area Office at 229-353-6330 \nQuestions: Stephen Norris\, Bereavement Coordinator\, 229-353-6330
URL:https://mysouthwell.com/event/reflections-grief-support-group/2031-01-06/
LOCATION:Hospice of Tift Area Office\, 618 North Central Avenue\, Tifton\, 31794\, United States
ATTACH;FMTTYPE=image/jpeg:https://mysouthwell.com/wp-content/uploads/2026/01/event-hero.jpg
END:VEVENT
BEGIN:VEVENT
DTSTART;TZID=America/New_York:20310121T173000
DTEND;TZID=America/New_York:20310121T183000
DTSTAMP:20260419T092016
CREATED:20251217T200759Z
LAST-MODIFIED:20260121T151853Z
UID:10000487-1926783000-1926786600@mysouthwell.com
SUMMARY:Weight Loss Surgery Support Group
DESCRIPTION:Join us to receive support\, encouragement\, and guidance on your weight loss journey!
URL:https://mysouthwell.com/event/weight-loss-surgery-support-group/2031-01-21/
LOCATION:South Georgia Surgical\, 1007 Greenfield Drive\, Tifton\, GA\, 31794\, United States
ATTACH;FMTTYPE=image/jpeg:https://mysouthwell.com/wp-content/uploads/2026/01/event-hero.jpg
END:VEVENT
END:VCALENDAR